BEGIN:VCALENDAR
VERSION:2.0
X-WR-CALNAME:EventsCalendar
BEGIN:VEVENT
CATEGORIES:Event Category,Brightspace,Event Category,Lehman Community,Event Category,Training,Event Category,Webinar,Event Type,Information Session,Audience,Students,Featured,Yes
DESCRIPTION:&quot;Brightspace&amp;nbsp;for Student Success &amp;ndash; Live Guided Encore Sessions (via Zoom): RSVP&amp;nbsp;to attend a&amp;nbsp;60-minute live overview on Brightspace, our new learning management system for students. It will explore meaningful, low-stake engagements for getting started, key features, and tips for learning with educational technologies (like Brightspace). This webinar will include a live Q&amp;amp;A segment with information about self-paced resources and a breakout room for students who need support with Pulse, the Brightspace mobile application.&quot; 📅&amp;nbsp;Select a date to register for a session: 👉Monday, July 7 at 12:00 PM&amp;nbsp; 👉Tuesday, July&amp;nbsp;8 at 12:00 PM&amp;nbsp;https://lehman-cuny-edu.zoom.us/meeting/register/tQqeF3itTiyTArqPCvyPZQ#/registration&amp;nbsp;100895 Brightspace for Student Success Brightspace guided session online, zoom, registration required.
DTSTAMP:20260423T081157
DTSTART:20250707T125200
DTEND:20250708T125200
LOCATION:Online
SUMMARY;LANGUAGE=en-us:Brightspace for Student Success &amp;ndash; Live Guided Encore Sessions (via Zoom)
UID:45344a1bc80428b8a828946c91d092c0@www.lehman.edu
END:VEVENT
END:VCALENDAR
