BEGIN:VCALENDAR
VERSION:2.0
X-WR-CALNAME:EventsCalendar
BEGIN:VEVENT
CATEGORIES:Event Category,Alumni,Event Category,Faculty,Event Category,Lehman Community,Event Category,Special Event,Event Category,Staff,Event Category,Students,Event Type,Community,Audience,Alumni,Audience,Faculty,Audience,Graduate Students,Audience,Staff,Audience,Students,Featured,Yes
DESCRIPTION:Join Lehman College for a special evening at Yankee Stadium as the New York Yankees host Lehman Night. This event brings together students, alumni, faculty, staff, and friends for a night of baseball and Bronx pride. The first 500 ticket buyers will receive an exclusive co-branded New York Yankees/Lehman College jersey. Early purchase is recommended to ensure availability of your preferred jersey size. Attendees who purchase tickets before September 15 will also be entered for a chance to walk on the field before the game.100917 Yankee, baseball, alumni, student, staff, faculty
DTSTAMP:20260423T081141
DTSTART:20250925T190000
DTEND:20250925T220000
LOCATION:Off Campus
SUMMARY;LANGUAGE=en-us:Lehman Night At Yankee Stadium
UID:c68b5e61ebe08ad441659f43340b560b@www.lehman.edu
END:VEVENT
END:VCALENDAR
