BEGIN:VCALENDAR
VERSION:2.0
X-WR-CALNAME:EventsCalendar
BEGIN:VEVENT
CATEGORIES:Event Category,Admissions,Event Category,CUNY,Event Category,Information Session,Event Type,Information Session,Schools,School of Education,Audience,Alumni,Audience,Faculty,Audience,Graduate Students,Audience,Parents,Audience,Prospective Students,Audience,Staff,Audience,Students,Audience,Visitors
DESCRIPTION:Enhance your teaching expertise with Lehman College&amp;rsquo;s advanced&amp;nbsp;Literacy&amp;nbsp;Education program. Join us on September 16th&amp;nbsp;&amp;nbsp;for an information session where you&amp;rsquo;ll learn about the&amp;nbsp;Literacy&amp;nbsp;M.S.Ed. and Advanced Certificate programs, engage with faculty, get guidance on the admissions process, and discover how our competitive tuition makes career advancement both achievable and affordable.&amp;nbsp; Join the&amp;nbsp;literacy&amp;nbsp;education program to build connections with a community of dedicated educators, expand your professional network, and explore a rigorous curriculum focused on evidence-based teaching strategies.101249 Information Session, Graduate School, Graduate Admissions, Literacy, reading, development
DTSTAMP:20260423T070814
DTSTART:20250916T190000
DTEND:20250916T200000
LOCATION:Online
SUMMARY;LANGUAGE=en-us:Literacy Studies M.S.Ed. Information Session  
UID:09266c9cc023661a48891fd36d67ead3@www.lehman.edu
END:VEVENT
END:VCALENDAR
