BEGIN:VCALENDAR
VERSION:2.0
X-WR-CALNAME:EventsCalendar
BEGIN:VEVENT
CATEGORIES:Event Category,Information Session,Event Category,Workshops,Event Type,Information Session,Audience,Alumni,Audience,Students
DESCRIPTION:Sensitivity, self-awareness, and cultural competence are fundamental soft skills for the workplace.&amp;nbsp;  Join our workshop to learn about diversity, inclusion, and equity in the workplace and thrive in a diverse environment. &amp;nbsp;103198 Diversity, Equity, Inclusion, Workshop
DTSTAMP:20260423T081105
DTSTART:20250920T120000
DTEND:20250920T130000
LOCATION:Online
SUMMARY;LANGUAGE=en-us:Workshop: Diversity, Equity &amp;amp; Inclusion in the Workplace
UID:b99802cfe7385f6c7cfd23fa9d87ec81@www.lehman.edu
END:VEVENT
END:VCALENDAR
