BEGIN:VCALENDAR
VERSION:2.0
X-WR-CALNAME:EventsCalendar
BEGIN:VEVENT
CATEGORIES:Event Category,Arts &amp; Culture,Event Category,Concerts,Event Category,Music,Event Category,Performing Arts &amp; Film,Event Type,Concert,Audience,Alumni,Audience,Faculty,Audience,Parents,Audience,Staff,Audience,Students
DESCRIPTION:Everyones favorite freestyle show returns for the 18th YEAR! Presented by Lehman Center and Fever Records.&amp;nbsp;  Artists TBA Students, faculty, and staff receive 10% off all tickets when purchased at the Box Office with a valid Lehman ID. 103591 &#039;hip hop&#039;, &#039;r&amp;amp;b&#039;, &#039;music&#039;, &#039;soul&#039;, &#039;freestyle&#039;, &#039;forever freestyle&#039;, &#039;live music&#039;, &#039;bronx events&#039;
DTSTAMP:20260423T071011
DTSTART:20260314T200000
DTEND:20260314T230000
LOCATION:Concert Hall
SUMMARY;LANGUAGE=en-us:Forever Freestyle 18 
UID:7bfb5fa09ec8b22d29739b5e8689fb96@www.lehman.edu
END:VEVENT
END:VCALENDAR
