BEGIN:VCALENDAR
VERSION:2.0
X-WR-CALNAME:EventsCalendar
BEGIN:VEVENT
CATEGORIES:Event Category,Arts &amp; Culture,Event Category,Concerts,Event Category,Multimedia,Event Category,Music,Event Category,Performing Arts &amp; Film,Event Type,Concert,Audience,Alumni,Audience,Faculty,Audience,Parents,Audience,Prospective Students,Audience,Staff,Audience,Students,Audience,Transfer Students
DESCRIPTION:This exhilarating and unique musical event features original arrangements to universally loved Italian song and tenor arias, presenting memorable melodies and themes performed by the incredible Italian Trio Tenors in a stunning program that voyages through nostalgia with favorite memorable classics. Audiences will be captivated with this first concert tour of North America by the spectacular Three Italian Tenors.&amp;nbsp; Tenors Giovanni Maria Palmia, Ugo Tarquini and Alessandro Fantoni will be accompanied by Fabrizio Mocata on piano. Students, faculty, and staff receive 10% off all tickets when purchased at the Box Office with a valid Lehman ID.103596 &#039;tenors&#039;, &#039;opera&#039;, &#039;italian&#039;, &#039;italy&#039;, &#039;concert&#039;, &#039;live music&#039;, &#039;music&#039;, &#039;classical&#039;, &#039;italian culture&#039;, &#039;performance&#039;
DTSTAMP:20260423T070922
DTSTART:20260315T160000
DTEND:20260315T190000
LOCATION:Concert Hall
SUMMARY;LANGUAGE=en-us:Three Italian Tenors
UID:2f2e889b883f7ae53f24c214d5c0456a@www.lehman.edu
END:VEVENT
END:VCALENDAR
