BEGIN:VCALENDAR
VERSION:2.0
X-WR-CALNAME:EventsCalendar
BEGIN:VEVENT
CATEGORIES:Event Category,Alumni,Event Category,Community,Event Category,Faculty,Event Category,Lehman Community,Event Category,Staff,Event Type,Community,Audience,Alumni,Audience,Faculty,Audience,Staff,Audience,Visitors,Featured,Yes
DESCRIPTION:Reminisce, reconnect, and celebrate at Lehman College&amp;rsquo;s Fall Alumni Rendezvous. Enjoy live music, a special performance at the Lovinger Theater, Bronx-inspired bites, and a lively Beer Garden. Families can take part in hands-on activities, and alumni are invited to revisit favorite campus spots like the Library and the APEX Center. Tickets are $25 and include access to all activities plus a lunch package.103700 Fall, Alumni, Rendezvous, Legacy
DTSTAMP:20260423T070930
DTSTART:20251004T110000
DTEND:20251004T160000
LOCATION:Music Building
SUMMARY;LANGUAGE=en-us:Fall Alumni Rendezvous
UID:2cdc137ff9e664f453490055354d16b1@www.lehman.edu
END:VEVENT
END:VCALENDAR
