BEGIN:VCALENDAR
VERSION:2.0
X-WR-CALNAME:EventsCalendar
BEGIN:VEVENT
CATEGORIES:Event Category,Arts &amp; Culture,Event Category,Concerts,Event Category,Music,Event Category,Performing Arts &amp; Film,Event Type,Concert,Audience,Alumni,Audience,Faculty,Audience,Staff,Audience,Students
DESCRIPTION:       Celebrate Mother&amp;rsquo;s Day in style at Lehman Center for the Performing Arts in the Bronx with the incomparable La India, the reigning &amp;ldquo;Princess of Salsa,&amp;rdquo; as she returns for her highly anticipated annual concert!&amp;nbsp;   With her powerhouse voice and passionate stage presence, La India will perform her greatest hits and pay tribute to the love, strength, and spirit of mothers everywhere. This beloved tradition brings families together for an unforgettable evening of music, joy, and salsa rhythms that will have everyone dancing in their seats. Don&amp;rsquo;t miss this special celebration honoring moms with one of Latin music&amp;rsquo;s most iconic stars! Students, faculty, and staff receive 10% off all tickets when purchased at the Box Office with a valid Lehman ID.   104385 &#039;mothers day&#039;, &#039;mothers&#039;, &#039;la india&#039;, &#039;salsa&#039; &#039;music&#039;, &#039;live music&#039;,&#039;concert&#039;, &#039;mothers day concert&#039;, &#039;concierto&#039;,
DTSTAMP:20260423T070814
DTSTART:20260509T200000
DTEND:20260509T230000
LOCATION:Concert Hall
SUMMARY;LANGUAGE=en-us:La India
UID:9c4229fe7ee6f60d01e9a67a6491f3c8@www.lehman.edu
END:VEVENT
END:VCALENDAR
