BEGIN:VCALENDAR
VERSION:2.0
X-WR-CALNAME:EventsCalendar
BEGIN:VEVENT
CATEGORIES:Event Category,Arts &amp; Culture,Event Category,Concerts,Event Category,Music,Event Category,Performing Arts &amp; Film,Event Type,Concert,Audience,Alumni,Audience,Faculty,Audience,Parents,Audience,Staff,Audience,Students
DESCRIPTION:Hip Hop Fever is back at Lehman Center in the Bronx, bringing the heat with a legendary night of hip hop&amp;rsquo;s finest! Presented by Fever Records, this high-energy event celebrates the pioneers and trailblazers who shaped the culture of hip hop. Get ready for an unforgettable evening of classic beats, iconic lyrics, and live performances that pay tribute to the genre&#039;s rich history. Artists TBA. Students, faculty, and staff receive 10% off all tickets when purchased at the Box Office with a valid Lehman ID.104399 &#039;hip hop&#039;, &#039;fever records&#039;, &#039;concert&#039;, &#039;music&#039;, &#039;live music&#039;
DTSTAMP:20260423T070931
DTSTART:20260523T200000
DTEND:20260523T230000
LOCATION:Concert Hall
SUMMARY;LANGUAGE=en-us:Hip Hop Fever!
UID:0db7fdd599827ea72b609ee5045a2feb@www.lehman.edu
END:VEVENT
END:VCALENDAR
