BEGIN:VCALENDAR
VERSION:2.0
X-WR-CALNAME:EventsCalendar
BEGIN:VEVENT
CATEGORIES:Event Category,Panel Discussions,Event Type,Panel,Schools,School of Continuing &amp; Professional Studies,Audience,Faculty,Audience,Graduate Students,Audience,Prospective Students,Audience,Staff,Audience,Students,Featured,Yes
DESCRIPTION:Thursday, Nov 66:00 PM &amp;ndash; 9:00 PMCUNY on the Concourse, 3rd Floor2501 Grand Concourse, Bronx, NY 10468 &amp;nbsp; Michael Brenner, Instructor at our VR Training Academy at CUNY on the Concourse, welcomes the XR Guild to Lehman College&amp;rsquo;s Bronx Business Tech Incubator. Event facilitated and hosted by XR Guild NYC Chapter in partnership with Lehman College, CUNY on the Concourse * Snacks and soft drinks provided* Join us for an inspiring night of community and discovery!* Hear stories about cutting-edge XR (Extended Reality) projects* Experience live demos* Network with industry professionals, students, and creators Event Schedule:Networking: 6:00 PM &amp;ndash; 7:00 PMPresentations: 7:00 PM &amp;ndash; 8:00 PMDemo Sessions: 8:00 PM &amp;ndash; 9:30 PM Speakers: 1. Ofek Yariv - Software Engineer at Instagram (Meta)&amp;nbsp;and former&amp;nbsp;Unity engineerOfek will discuss how AI tools are redefining workflows, collaboration, and efficiency at Meta &amp;mdash; enabling teams to ship faster and scale smarter. 2. Anzhelika Nastashchuk&amp;nbsp;3. Zihao Zhang 4. Vincent Navarro108043 XR Guild, NYC, BBTI, COTC, CUNY, Lehman, Bronx Business Tech Incubator
DTSTAMP:20260423T081130
DTSTART:20251106T180000
DTEND:20251106T210000
LOCATION:CUNY on The Concourse
SUMMARY;LANGUAGE=en-us:XR Guild NYC &amp;bull; Speaker &amp;amp; Demo Night
UID:e989211669320eaa107be6162db98a5b@www.lehman.edu
END:VEVENT
END:VCALENDAR
