BEGIN:VCALENDAR
VERSION:2.0
X-WR-CALNAME:EventsCalendar
BEGIN:VEVENT
CATEGORIES:Event Category,Admissions,Event Category,CUNY,Event Category,Information Session,Event Type,Information Session,Schools,School of Education,Audience,Alumni,Audience,Faculty,Audience,Graduate Students,Audience,Parents,Audience,Prospective Students,Audience,Staff,Audience,Students,Audience,Visitors,Featured,Yes
DESCRIPTION:Discover the M.S.Ed. in Science Education at Lehman College.&amp;nbsp;Explore how Lehman&amp;rsquo;s program prepares future middle and high school science teachers for New York State Initial Certification in Biology, Chemistry, Earth Science, General Science, or Physics.109456 Information Session, Graduate School, Graduate Admissions, master&amp;rsquo;s degree, masters, Science Education, environmental science, biology, chemistry, earth science, physics, secondary science learning environments, teaching certificate, science teacher, science education advances certificate
DTSTAMP:20260423T121334
DTSTART:20260422T180000
DTEND:20260422T190000
LOCATION:Online
SUMMARY;LANGUAGE=en-us:Science Education M.S.Ed. Information Session 
UID:24881bf33861c8b2ab515524b4aef9cb@www.lehman.edu
END:VEVENT
END:VCALENDAR
