BEGIN:VCALENDAR
VERSION:2.0
X-WR-CALNAME:EventsCalendar
BEGIN:VEVENT
CATEGORIES:Event Category,Admissions,Event Category,CUNY,Event Category,Information Session,Event Type,Information Session,Schools,School of Education,Audience,Alumni,Audience,Faculty,Audience,Graduate Students,Audience,Parents,Audience,Prospective Students,Audience,Staff,Audience,Students,Audience,Visitors
DESCRIPTION:Join us to learn about Lehman College&amp;rsquo;s M.S. in Clinical Mental Health Counseling, a two-year online program leading to New York State LMHC licensure. This 60-credit, cohort-based degree prepares graduates for careers in private practice, healthcare, community organizations, and beyond. Meet with faculty and gain insight into admissions requirements and tuition details.&amp;nbsp;109465 Information Session, Graduate School, Graduate Admissions, Counselor Education, Guidance counselor, clinical mental health, mental health, School counseling
DTSTAMP:20260423T081233
DTSTART:20260203T180000
DTEND:20260203T200000
LOCATION:Online
SUMMARY;LANGUAGE=en-us:Counselor Ed. Clinical Mental Health M.S. Information Session 
UID:b717aa1a49d851e95728b8b5e60be01d@www.lehman.edu
END:VEVENT
END:VCALENDAR
