BEGIN:VCALENDAR
VERSION:2.0
X-WR-CALNAME:EventsCalendar
BEGIN:VEVENT
CATEGORIES:Event Category,Admissions,Event Category,CUNY,Event Category,Information Session,Event Type,Information Session,Schools,School of Education,Audience,Alumni,Audience,Graduate Students,Audience,Parents,Audience,Prospective Students,Audience,Staff,Audience,Students,Audience,Transfer Students,Audience,Visitors,Featured,Yes
DESCRIPTION:Discover the&amp;nbsp;M.S.Ed. in Science Education at Lehman College.&amp;nbsp;Explore how Lehman&amp;rsquo;s program prepares future middle and high school science teachers for New York State Initial Certification in Biology, Chemistry, Earth Science, General Science, or Physics.&amp;nbsp;109471 Information Session, Graduate School, Graduate Admissions, master&#039;s degree, science education, earth science, biology, natural science, earth environment
DTSTAMP:20260423T070740
DTSTART:20260225T180000
DTEND:20260225T190000
LOCATION:Online
SUMMARY;LANGUAGE=en-us:Science Education M.S.Ed. Information Session 
UID:c954cb5cc656651c00a1ce9017e18177@www.lehman.edu
END:VEVENT
END:VCALENDAR
