BEGIN:VCALENDAR
VERSION:2.0
X-WR-CALNAME:EventsCalendar
BEGIN:VEVENT
CATEGORIES:Event Category,Academics,Event Category,Admissions,Event Category,Advisement,Event Category,CUNY,Event Category,Prospective Students,Event Type,Information Session,Schools,School of Health Sciences, Human Services &amp; Nursing,Audience,Parents,Audience,Prospective Students,Audience,Students,Audience,Transfer Students,Audience,Visitors
DESCRIPTION:Receive information about why Social Work is a great profession to enhance the lives of others while earning a livable income. Explore the benefits of getting your BA degree with a major in social work at Lehman College and the pathways to advancing one&#039;s education.109711 Social Work, Human Services, Helping Profession, BASW, BSW, Advance Standing Student, SWK, Undergraduate Social Work, +
DTSTAMP:20260423T092230
DTSTART:20260107T180000
DTEND:20260107T190000
LOCATION:Online
SUMMARY;LANGUAGE=en-us:BA-Social Work Information Session
UID:7632a81230a42587ea62745db8c806fa@www.lehman.edu
END:VEVENT
END:VCALENDAR
