BEGIN:VCALENDAR
VERSION:2.0
X-WR-CALNAME:EventsCalendar
BEGIN:VEVENT
CATEGORIES:Event Category,Students,Event Type,Panel,Audience,Graduate Students,Audience,Students,Featured,Yes
DESCRIPTION:Join us at Lehman College for a special opportunity to hear from all seven judges on the New York Court of Appeals. Moderated by Lehman College Executive Counsel and Labor Designee Bridget Barbera, all seven judges on the New York State Court of Appeals will talk about their judicial journeys and answer questions. Note: This event will now be held in Lovinger Theatre.110961 new york state court of appeals judge
DTSTAMP:20260425T065544
DTSTART:20260310T173000
DTEND:20260310T190000
LOCATION:Speech &amp;amp; Theatre Building
SUMMARY;LANGUAGE=en-us:An Evening With the Court of Appeals
UID:6ad6b886a457376867fb36afa6c912cd@www.lehman.edu
END:VEVENT
END:VCALENDAR
