BEGIN:VCALENDAR
VERSION:2.0
X-WR-CALNAME:EventsCalendar
BEGIN:VEVENT
CATEGORIES:Event Category,Academics,Event Category,Faculty,Event Category,Information Session,Event Category,Students,Event Type,Information Session,Audience,Alumni,Audience,Faculty,Audience,Graduate Students,Audience,Students,Audience,Transfer Students,Featured,Yes
DESCRIPTION:AI Month brings together faculty, students, and staff to examine AI through ethics, practice, and lived experience across higher education. Across three Friday sessions, participants explore ethical AI and environmental and data justice, faculty-led tools and real-world applications, and student perspectives on learning with AI at the undergraduate, master&amp;rsquo;s, and doctoral levels. Together, the series highlights both the possibilities and responsibilities of AI in teaching, learning, research, and academic work.111527 Ethical AI in Practice: Environmental Impact, Data Justice &amp;amp; Responsible Use; AI in Action: Tools, Demos &amp;amp; Real-World Faculty Perspectives; Learning With AI: Undergraduate, Master&amp;rsquo;s, and Doctoral Perspectives;
DTSTAMP:20260423T073228
DTSTART:20260213T120000
DTEND:20260213T140000
LOCATION:Online
SUMMARY;LANGUAGE=en-us:AI Month: Tools, Ethics, and Voices Across the Learning Ecosystem
UID:2428278bf62528271078ae09dfe7a5ee@www.lehman.edu
END:VEVENT
BEGIN:VEVENT
CATEGORIES:Event Category,Academics,Event Category,Faculty,Event Category,Information Session,Event Category,Students,Event Type,Information Session,Audience,Alumni,Audience,Faculty,Audience,Graduate Students,Audience,Students,Audience,Transfer Students,Featured,Yes
DESCRIPTION:AI Month brings together faculty, students, and staff to examine AI through ethics, practice, and lived experience across higher education. Across three Friday sessions, participants explore ethical AI and environmental and data justice, faculty-led tools and real-world applications, and student perspectives on learning with AI at the undergraduate, master&amp;rsquo;s, and doctoral levels. Together, the series highlights both the possibilities and responsibilities of AI in teaching, learning, research, and academic work.111527 Ethical AI in Practice: Environmental Impact, Data Justice &amp;amp; Responsible Use; AI in Action: Tools, Demos &amp;amp; Real-World Faculty Perspectives; Learning With AI: Undergraduate, Master&amp;rsquo;s, and Doctoral Perspectives;
DTSTAMP:20260423T073228
DTSTART:20260220T120000
DTEND:20260220T140000
LOCATION:Online
SUMMARY;LANGUAGE=en-us:AI Month: Tools, Ethics, and Voices Across the Learning Ecosystem
UID:b913943b28e3d45cd61ef6c3849baed8@www.lehman.edu
END:VEVENT
BEGIN:VEVENT
CATEGORIES:Event Category,Academics,Event Category,Faculty,Event Category,Information Session,Event Category,Students,Event Type,Information Session,Audience,Alumni,Audience,Faculty,Audience,Graduate Students,Audience,Students,Audience,Transfer Students,Featured,Yes
DESCRIPTION:AI Month brings together faculty, students, and staff to examine AI through ethics, practice, and lived experience across higher education. Across three Friday sessions, participants explore ethical AI and environmental and data justice, faculty-led tools and real-world applications, and student perspectives on learning with AI at the undergraduate, master&amp;rsquo;s, and doctoral levels. Together, the series highlights both the possibilities and responsibilities of AI in teaching, learning, research, and academic work.111527 Ethical AI in Practice: Environmental Impact, Data Justice &amp;amp; Responsible Use; AI in Action: Tools, Demos &amp;amp; Real-World Faculty Perspectives; Learning With AI: Undergraduate, Master&amp;rsquo;s, and Doctoral Perspectives;
DTSTAMP:20260423T073228
DTSTART:20260227T120000
DTEND:20260227T140000
LOCATION:Online
SUMMARY;LANGUAGE=en-us:AI Month: Tools, Ethics, and Voices Across the Learning Ecosystem
UID:a6381301672bc726edea6968bc5fe266@www.lehman.edu
END:VEVENT
END:VCALENDAR
