BEGIN:VCALENDAR
VERSION:2.0
X-WR-CALNAME:EventsCalendar
BEGIN:VEVENT
CATEGORIES:Event Category,Wellness &amp; Health Promotion,Event Category,Workshops,Event Type,Hybrid,Audience,Graduate Students,Audience,Students
DESCRIPTION:Learning what a healthy relationship looks like is critical. This 6-week series explores various themes of healthy relationships. Through facilitated dialogue, participants will explore various themes of healthy relationships and becoming an empowered bystander. All participants who attend at least 5 workshops in the series will receive a digital badge.&amp;nbsp;111708 critical conversations, healthy relationships, discussions
DTSTAMP:20260423T095357
DTSTART:20260219T120000
DTEND:20260219T140000
LOCATION:Old Gym Building
SUMMARY;LANGUAGE=en-us:Together as One: Critical Conversations on Healthy Relationships
UID:1b3c5d8f1f2703dd1be2b6327c5c4d67@www.lehman.edu
END:VEVENT
BEGIN:VEVENT
CATEGORIES:Event Category,Wellness &amp; Health Promotion,Event Category,Workshops,Event Type,Hybrid,Audience,Graduate Students,Audience,Students
DESCRIPTION:Learning what a healthy relationship looks like is critical. This 6-week series explores various themes of healthy relationships. Through facilitated dialogue, participants will explore various themes of healthy relationships and becoming an empowered bystander. All participants who attend at least 5 workshops in the series will receive a digital badge.&amp;nbsp;111708 critical conversations, healthy relationships, discussions
DTSTAMP:20260423T095357
DTSTART:20260226T120000
DTEND:20260226T140000
LOCATION:Old Gym Building
SUMMARY;LANGUAGE=en-us:Together as One: Critical Conversations on Healthy Relationships
UID:344b6fe44183c9180279896fe93f8801@www.lehman.edu
END:VEVENT
BEGIN:VEVENT
CATEGORIES:Event Category,Wellness &amp; Health Promotion,Event Category,Workshops,Event Type,Hybrid,Audience,Graduate Students,Audience,Students
DESCRIPTION:Learning what a healthy relationship looks like is critical. This 6-week series explores various themes of healthy relationships. Through facilitated dialogue, participants will explore various themes of healthy relationships and becoming an empowered bystander. All participants who attend at least 5 workshops in the series will receive a digital badge.&amp;nbsp;111708 critical conversations, healthy relationships, discussions
DTSTAMP:20260423T095357
DTSTART:20260305T120000
DTEND:20260305T140000
LOCATION:Old Gym Building
SUMMARY;LANGUAGE=en-us:Together as One: Critical Conversations on Healthy Relationships
UID:8299cc76718e1120349c4d10bcee02a8@www.lehman.edu
END:VEVENT
BEGIN:VEVENT
CATEGORIES:Event Category,Wellness &amp; Health Promotion,Event Category,Workshops,Event Type,Hybrid,Audience,Graduate Students,Audience,Students
DESCRIPTION:Learning what a healthy relationship looks like is critical. This 6-week series explores various themes of healthy relationships. Through facilitated dialogue, participants will explore various themes of healthy relationships and becoming an empowered bystander. All participants who attend at least 5 workshops in the series will receive a digital badge.&amp;nbsp;111708 critical conversations, healthy relationships, discussions
DTSTAMP:20260423T095357
DTSTART:20260312T120000
DTEND:20260312T140000
LOCATION:Old Gym Building
SUMMARY;LANGUAGE=en-us:Together as One: Critical Conversations on Healthy Relationships
UID:a61f31b8f91ab93666548fa244d4b4eb@www.lehman.edu
END:VEVENT
BEGIN:VEVENT
CATEGORIES:Event Category,Wellness &amp; Health Promotion,Event Category,Workshops,Event Type,Hybrid,Audience,Graduate Students,Audience,Students
DESCRIPTION:Learning what a healthy relationship looks like is critical. This 6-week series explores various themes of healthy relationships. Through facilitated dialogue, participants will explore various themes of healthy relationships and becoming an empowered bystander. All participants who attend at least 5 workshops in the series will receive a digital badge.&amp;nbsp;111708 critical conversations, healthy relationships, discussions
DTSTAMP:20260423T095357
DTSTART:20260319T120000
DTEND:20260319T140000
LOCATION:Old Gym Building
SUMMARY;LANGUAGE=en-us:Together as One: Critical Conversations on Healthy Relationships
UID:b05fbdae73869d75c260f0b4a370f1ec@www.lehman.edu
END:VEVENT
BEGIN:VEVENT
CATEGORIES:Event Category,Wellness &amp; Health Promotion,Event Category,Workshops,Event Type,Hybrid,Audience,Graduate Students,Audience,Students
DESCRIPTION:Learning what a healthy relationship looks like is critical. This 6-week series explores various themes of healthy relationships. Through facilitated dialogue, participants will explore various themes of healthy relationships and becoming an empowered bystander. All participants who attend at least 5 workshops in the series will receive a digital badge.&amp;nbsp;111708 critical conversations, healthy relationships, discussions
DTSTAMP:20260423T095357
DTSTART:20260326T120000
DTEND:20260326T140000
LOCATION:Old Gym Building
SUMMARY;LANGUAGE=en-us:Together as One: Critical Conversations on Healthy Relationships
UID:ba8dad555b4a8a994f1d5c64ca857be9@www.lehman.edu
END:VEVENT
END:VCALENDAR
