BEGIN:VCALENDAR
VERSION:2.0
X-WR-CALNAME:EventsCalendar
BEGIN:VEVENT
CATEGORIES:Event Category,Counseling,Event Category,DEI,Event Category,Student Services,Event Type,Community,Audience,Students,Featured,Yes
DESCRIPTION:Join us to learn about and celebrate Black History Month! Free snacks and prizes will be available.112064 Black history month, Free snacks, prizes, event, Lehman, 2026
DTSTAMP:20260423T070929
DTSTART:20260219T123000
DTEND:20260219T131500
LOCATION:Music Building
SUMMARY;LANGUAGE=en-us:Black History Month
UID:1d553bc8f8f949f785548ae71a17327c@www.lehman.edu
END:VEVENT
END:VCALENDAR
