BEGIN:VCALENDAR
VERSION:2.0
X-WR-CALNAME:EventsCalendar
BEGIN:VEVENT
CATEGORIES:Event Category,Alumni,Event Category,Athletics,Event Category,Students,Event Type,Community,Audience,Alumni,Audience,Faculty,Audience,Friend of Lehman,Audience,Staff,Audience,Students,Featured,Yes
DESCRIPTION:⚽️🎓 First Ever LEHMAN NIGHT at NYCFC 🎓⚽️ Buy your tickets now to guarantee your exclusive Lehman College x NYCFC co-branded scarf! Lehman students, staff, faculty, and alumni, join us at Yankee Stadium as New York City FC takes on FC Cincinnati on Wednesday, April 22 at 7:30 PM. 🎟 Tickets start at just $28 and include the Lehman x NYCFC scarf &amp;mdash; only available through this offer.🧣 And only if you Purchase by March 15. 📍 Yankee Stadium⏰ 7:30 PM kickoff 👉&amp;nbsp;Secure your tickets&amp;nbsp;and rep Lehman at College Night!112401 lehman soccer football nycfc mls scarf
DTSTAMP:20260423T070659
DTSTART:20260422T193000
DTEND:20260422T220000
LOCATION:Off Campus
SUMMARY;LANGUAGE=en-us:Lehman Night at NYCFC
UID:817d216b8a9c3c24bba1a0a4d87f6d55@www.lehman.edu
END:VEVENT
END:VCALENDAR
