BEGIN:VCALENDAR
VERSION:2.0
X-WR-CALNAME:EventsCalendar
BEGIN:VEVENT
CATEGORIES:Event Category,Admissions,Event Category,CUNY,Event Category,Information Session,Event Type,Information Session,Schools,School of Health Sciences, Human Services &amp; Nursing,Audience,Alumni,Audience,Faculty,Audience,Graduate Students,Audience,Parents,Audience,Prospective Students,Audience,Staff,Audience,Students,Audience,Transfer Students,Audience,Visitors,Featured,Yes
DESCRIPTION:Advance your nursing career with Lehman College&amp;rsquo;s CCNE-accredited graduate programs, including the MS in Family or Pediatric Nurse Practitioner, Post-Master&amp;rsquo;s Certificates in FNP and PNP, and the Doctor of Nursing Practice (DNP). Designed for working professionals, these programs blend academic rigor, clinical excellence, and flexible formats to prepare nurses for advanced practice, leadership, and service to their communities.&amp;nbsp;112511 Information Session, Graduate School, Graduate Admissions, nursing, pediatric nursing, family nurse practitioner, pediatric nurse practitioner, DNP, nursing doctorate,
DTSTAMP:20260423T071010
DTSTART:20260303T173000
DTEND:20260303T183000
LOCATION:Online
SUMMARY;LANGUAGE=en-us:Nursing M.S., Adv. Cert., DNP Information Session 
UID:005da34438d487a3b9e9f47772b17762@www.lehman.edu
END:VEVENT
END:VCALENDAR
