BEGIN:VCALENDAR
VERSION:2.0
X-WR-CALNAME:EventsCalendar
BEGIN:VEVENT
CATEGORIES:Event Category,Arts &amp; Culture,Event Category,Panel Discussions,Event Type,Information Session,Event Type,Panel,Audience,Faculty,Audience,Staff,Audience,Students,Featured,Yes
DESCRIPTION:zav&amp;eacute; martohardjono&amp;nbsp;is an interdisciplinary dance and installation artist. Their time-based works, rooted in ecological and political liberation, activate audiences&#039; senses to dream of more just futures. They are a 2022 Bessie/New York Dance and Performance Award nominee for Outstanding Performer, Mertz Gilmore Foundation and Puffin Foundation awardee, and 2025 Center for Experimental Ethnography fellow. Their work has shown at the 92Y, Aljira Center for Contemporary Art, Asian Arts Initiative, Bemis Center for Contemporary Art, El Museo del Barrio, Issue Project Room, The Kennedy Center, Storm King Art Center, Winslow Garage, and in Amsterdam, Berlin, Glasgow, Jakarta, Montr&amp;eacute;al, Skopje, and Zurich.112833 zav&amp;eacute; martohardjono, performance, speaker, series
DTSTAMP:20260423T081141
DTSTART:20260505T163000
DTEND:20260505T173000
LOCATION:Online
SUMMARY;LANGUAGE=en-us:Spring 2026 Queer Theater and Performance Speaker series - zav&amp;eacute; martohardjono
UID:f223076141d0777d4ed42296dcac73ab@www.lehman.edu
END:VEVENT
END:VCALENDAR
