BEGIN:VCALENDAR
VERSION:2.0
X-WR-CALNAME:EventsCalendar
BEGIN:VEVENT
CATEGORIES:Event Category,Information Session,Event Category,Leadership,Event Category,Prospective Students,Event Category,Special Event,Event Category,Students,Event Category,Workshops,Event Type,Information Session,Event Type,Orientation,Audience,High School Students,Audience,Transfer Students,Featured,Yes
DESCRIPTION:The CUNitY Educational Summit is an initiative of Lehman College&amp;rsquo;s Urban Male Leadership (UMLP), and the CREAR Futuros Mentorship Programs designed to promote Lehman College as a strong and accessible option for community college and high school students exploring their next academic step. This summit provides students with direct exposure to campus life, mentorship opportunities, and valuable information about academic programs, leadership development, and student success resources. Through a dynamic keynote speaker and engaging workshops, attendees will gain insight into how higher education can shape their academic and professional trajectories. 📅 Wednesday, March 18, 2026🕛 12:00 PM &amp;ndash; 3:00 PM📍 Lehman College, Faculty &amp;amp; East Dining Rooms | Bronx, NY The CUNitY Educational Summit reinforces Lehman College&amp;rsquo;s commitment to expanding access, fostering mentorship, and empowering students to transform knowledge into opportunity.113167 CUNitY, summit, urban male leadership, umlp, crear futuros, mentorship program, high school students, campus life, academic programs, leadership, development, student success, resources, workshops, CUNY BMI
DTSTAMP:20260423T080023
DTSTART:20260318T120000
DTEND:20260318T150000
LOCATION:Music Building
SUMMARY;LANGUAGE=en-us:18th Annual CUNitY Educational Summit
UID:61aca3f94e463b8ebd324e40a491e471@www.lehman.edu
END:VEVENT
END:VCALENDAR
