BEGIN:VCALENDAR
VERSION:2.0
X-WR-CALNAME:EventsCalendar
BEGIN:VEVENT
CATEGORIES:Event Category,Information Session,Event Category,Lectures,Event Category,Library,Event Category,Live Events,Event Category,Panel Discussions,Event Category,Students,Event Type,Information Session,Event Type,Lectures,Event Type,Panel,Audience,Faculty,Audience,Staff,Audience,Students,Featured,Yes
DESCRIPTION:The corporeal and spiritual healing in literature by women of colors can be seen to redefine modern thought and printed text. &amp;nbsp;Sarah Soanirina Ohmer traces impact of colonization and enslavement on Black women and Black women&amp;rsquo;s contributions to colonial, 19th&amp;nbsp;and 20th&amp;nbsp;century literature in the U.S., Brazil, and the Caribbean. Drawing on intersectional analysis - Ohmer focuses on portrayals of trauma and spirituality in works by Toni Morrison, Concei&amp;ccedil;&amp;atilde;o Evaristo, Maryse Cond&amp;eacute;, Gloria Anzald&amp;uacute;a, the Quilombhoje poets, and Mar&amp;iacute;a de los Reyes Castillo. Ohmer compares literature from different countries along four thematic pathways: ghosts, mirrors, naming, and motherhood. &amp;nbsp;Her analysis unlocks literature&amp;rsquo;s power to heal through gut-wrenching descriptions of wounds and thrilling passages of hope and liberation. Throughout, Ohmer weaves in her life story as a Black woman as she reflects on how colonialism, racism, sexism, and capitalism have impacted her work, traumas, and faith journey. Sarah Soanirina Ohmer&amp;nbsp;is Associate Professor of Africana Studies and Latin American and Latino Studies at Lehman College.&amp;nbsp;&amp;nbsp;113450 Sarah Soanirina Ohmer, The Keloids We Heal, spirituality, healing, colonization, enslavement 19th century, 20th century, trauma, literature, hope, liberation, black women, capitalism, faith, AFricana Studies, Latin American and Latino Studies
DTSTAMP:20260423T081233
DTSTART:20260325T130000
DTEND:20260325T140000
LOCATION:Library- LI
SUMMARY;LANGUAGE=en-us:The Keloids We Heal: Trauma, Spirituality, and Black Modernity in Literature by Sarah Soanirina Ohmer
UID:8bc66ec16795063362d07adedc53275c@www.lehman.edu
END:VEVENT
END:VCALENDAR
