BEGIN:VCALENDAR
VERSION:2.0
X-WR-CALNAME:EventsCalendar
BEGIN:VEVENT
CATEGORIES:Event Category,Academics,Event Category,Faculty,Event Category,Lectures,Event Type,Lectures,Schools,School of Natural &amp; Social Sciences,Audience,Alumni,Audience,Faculty,Audience,Graduate Students,Audience,Students,Featured,Yes
DESCRIPTION:The 2026 Basile Memorial Lecture in Plant Sciences will be held on Friday, April 24 at 11:00 am (Science Hall 1405). Dr. Zachary Lippman from the Watson School of Biological Sciences at Cold Spring Harbor Laboratory will be our distinguished lecturer. The lecture, named for our Plant Sciences colleague, Professor Dominick Basile, highlights our long-standing prominence in Plant Sciences and our 58 years collaboration with the New York Botanical Garden to train students in the CUNY Plant Sciences PhD subprogram of Biology.113778 Plant Sciences, Biology, STEM, Research
DTSTAMP:20260423T095357
DTSTART:20260424T103000
DTEND:20260424T130000
LOCATION:Science Hall - SC
SUMMARY;LANGUAGE=en-us:Basile Memorial Lecture
UID:4e6cca883e9bcf12e09e9aed7e8ef247@www.lehman.edu
END:VEVENT
END:VCALENDAR
