BEGIN:VCALENDAR
VERSION:2.0
X-WR-CALNAME:EventsCalendar
BEGIN:VEVENT
CATEGORIES:Event Category,Lectures,Event Category,Lehman Community,Event Category,Library,Event Category,Staff,Event Category,Students,Event Category,Symposia,Event Category,Webinar,Event Type,Information Session,Event Type,Lectures,Event Type,Webinar,Audience,Faculty,Audience,Graduate Students,Audience,Staff,Audience,Students,Featured,Yes
DESCRIPTION:The 2nd Annual Interdisciplinary Innovations Speaker Series, scheduled for Wednesday, April 15, 2026, will be hosted by the CUNY Institute for Health Equity in collaboration with the Leonard Lief Library, the Department of Health Promotion and Nutrition Sciences, the School of Business, and the Office of Campus Life at Lehman College. This year&amp;rsquo;s distinguished speaker is Dr. Jola Ajibade of Emory University. Dr. Ajibade&amp;rsquo;s scholarship draws from a wide range of fields, including political ecology, social justice, women&amp;rsquo;s studies, health sciences, urban studies, sustainable economic development, small business, geography, philosophy, and human rights. She has authored and edited numerous scholarly publications and serves on several climate‑related journals. Her work in the ClimTransformLab focuses on how individuals, communities, and cities respond to global environmental change&amp;mdash;and on their adaptive capacities for resilience, transformation, and long‑term sustainability.113855 Speaker Series, Webinar, Lecture, Information Session
DTSTAMP:20260423T081234
DTSTART:20260415T120000
DTEND:20260415T130000
LOCATION:Online
SUMMARY;LANGUAGE=en-us:2nd Annual Interdisciplinary Innovative Speaker Series
UID:5aafb4f9bda11323123d73c88a435085@www.lehman.edu
END:VEVENT
END:VCALENDAR
