BEGIN:VCALENDAR
VERSION:2.0
X-WR-CALNAME:EventsCalendar
BEGIN:VEVENT
CATEGORIES:Event Category,Admissions,Event Category,CUNY,Event Category,Information Session,Event Type,Information Session,Schools,School of Natural &amp; Social Sciences,Audience,Alumni,Audience,Faculty,Audience,Graduate Students,Audience,Parents,Audience,Prospective Students,Audience,Staff,Audience,Students,Audience,Visitors,Featured,Yes
DESCRIPTION:Shape the future with Lehman College&amp;rsquo;s graduate programs in Geographic Information Science (GISc). As one of today&amp;rsquo;s fastest-growing technology fields, GISc combines computer science, mapping, and spatial data to address challenges from public health to environmental conservation. Join us to learn about graduate-level pathways designed for students and professionals ready to advance in this dynamic field.&amp;nbsp;114285 Geographic Information Science (GISc), computer science, mapping, spatial data, Information Session, Graduate School, Graduate Admissions,
DTSTAMP:20260423T070852
DTSTART:20260511T173000
DTEND:20260511T183000
LOCATION:Online
SUMMARY;LANGUAGE=en-us:Geographic Information Science Information Session M.S. &amp;amp; Adv. Cert.
UID:105a87b9c5541826363aa37c9e991f3e@www.lehman.edu
END:VEVENT
END:VCALENDAR
