BEGIN:VCALENDAR
VERSION:2.0
X-WR-CALNAME:EventsCalendar
BEGIN:VEVENT
CATEGORIES:Event Category,Community,Event Category,General Public,Event Category,Lehman Community,Event Type,Community,Schools,School of Natural &amp; Social Sciences,Audience,Faculty,Audience,Staff,Audience,Students,Audience,Transfer Students,Audience,Visitors,Featured,Yes
DESCRIPTION:The Chemistry Club at Lehman College&amp;nbsp;is hosting a Blood Drive!&amp;nbsp;The New York Blood Center will be on campus on Tuesday, April 28, 2026 giving our community the chance to make a lifesaving difference.Every donation can help save up to three lives and it only takes a short amount of your time!&amp;nbsp;Location: Lehman College, East Dining HallDate: Tuesday, April 28 (10am-6pm) Sign up to donate!114383 blood drive, blood, donation, Lehman College
DTSTAMP:20260423T081157
DTSTART:20260428T100000
DTEND:20260428T180000
LOCATION:Music Building
SUMMARY;LANGUAGE=en-us:Blood Drive
UID:739c1102f14303ad735c9a9236e35081@www.lehman.edu
END:VEVENT
END:VCALENDAR
