BEGIN:VCALENDAR
VERSION:2.0
X-WR-CALNAME:EventsCalendar
BEGIN:VEVENT
CATEGORIES:Event Category,Alumni,Event Category,Information Session,Event Category,Networking,Event Type,Information Session,Schools,School of Arts &amp; Humanities,Audience,Students,Audience,Transfer Students,Featured,Yes
DESCRIPTION:The History Department is hosting a Career Day panel on&amp;nbsp;April 16 from 6:00&amp;ndash;8:00 PM (CA B-84/livestream), focused on careers in History, Education, Communications, Public Humanities, Arts &amp;amp; Media, and Community-Based Work. This event brings together Lehman alumni and faculty working across public-facing fields, including:  Communications and community arts Secondary education (APUSH / Global History) Public history and museum education Social policy and outreach Urban tour guiding and public humanities  The panel is especially relevant for students interested in careers in traditional classroom teaching and beyond. It will be of particular interest to History majors, Education students, Human Rights &amp;amp; Peace Studies students, and those interested in public engagement work.114450 History, Career, Panel, Alumni, Education, Community, Major, Work
DTSTAMP:20260423T080059
DTSTART:20260416T180000
DTEND:20260416T200000
LOCATION:Carman Hall - CA
SUMMARY;LANGUAGE=en-us:Panel on Careers in History, Education, and Public Humanities
UID:e21a4936e534ce2f9e0456fd4926c44e@www.lehman.edu
END:VEVENT
END:VCALENDAR
