BEGIN:VCALENDAR
VERSION:2.0
X-WR-CALNAME:EventsCalendar
BEGIN:VEVENT
CATEGORIES:Event Category,Students,Event Category,Wellness &amp; Health Promotion,Event Type,Exhibition,Audience,Faculty,Audience,Graduate Students,Audience,Staff,Audience,Students,Audience,Transfer Students,Featured,Yes
DESCRIPTION:This is our annual spring health and wellness fair. Lehman community members will have a chance to interact with a variety of on and off campus organizations to gain free resources, information and giveaways!&amp;nbsp;114678 wellness education; health fair; wellness fair; health center
DTSTAMP:20260423T070221
DTSTART:20260414T110000
DTEND:20260414T140000
LOCATION:Shuster Hall
SUMMARY;LANGUAGE=en-us:Spring Into Health! Health and Wellness Fair
UID:6373947b4f873c17678fe2338bf92aff@www.lehman.edu
END:VEVENT
END:VCALENDAR
