BEGIN:VCALENDAR
VERSION:2.0
X-WR-CALNAME:EventsCalendar
BEGIN:VEVENT
CATEGORIES:Event Category,Faculty,Event Category,Information Session,Event Category,Lectures,Event Category,Library,Event Category,Live Events,Event Category,Panel Discussions,Event Category,Students,Event Type,Information Session,Event Type,Lectures,Event Type,Panel,Schools,School of Education,Audience,Faculty,Audience,Staff,Audience,Students,Featured,Yes
DESCRIPTION:This book illustrates how young people engage with pop culture &amp;ndash; music, TV, films, fashion, dance, video games, memes, and digital content in its many forms - and outlines lessons that support them in engaging more actively, critically, and strategically. Part One draws on qualitative research with young people - as well as close analyses of pop culture phenomena - to illustrate how young people already engage with pop culture on- and offline. &amp;nbsp;This research demonstrates that young people interpret and respond to pop culture texts in sophisticated ways and highlights the potential for supporting and challenging them to do so in ways that are even more active, critical, and strategic. Part Two presents lessons that teach young people how to adopt intentional interpretive stances in relation to pop culture texts, identify and analyze hidden layers of story in these texts, and ultimately expand and refine their interpretations and responses. &amp;nbsp;In the final chapter&amp;rsquo;s lessons - young people engage in a process of developing a multimodal autoethnography, a form of narrative composition that explores connections between the personal and the cultural. The book provides options for teaching these lessons as standalone lessons, for enmeshing them in standards-aligned humanities curricula, and for teaching them in sequence as a unit of study. Mia Hood is an Adjunct in the Early Childhood and Childhood Education Department at Lehman College. &amp;nbsp;&amp;nbsp;&amp;nbsp;&amp;nbsp;114806 Mia Hood, Pop Culture Literacies: Teaching Interpretation, Response, and Composition in a Digital World, Early Childhood and Childhood Education,
DTSTAMP:20260423T081131
DTSTART:20260421T120000
DTEND:20260421T130000
LOCATION:Library- LI
SUMMARY;LANGUAGE=en-us:Pop Culture Literacies: Teaching Interpretation, Response, and Composition in a Digital World
UID:46e6e8391e6f390b679ceaacf63a553a@www.lehman.edu
END:VEVENT
END:VCALENDAR
