BEGIN:VCALENDAR
VERSION:2.0
X-WR-CALNAME:EventsCalendar
BEGIN:VEVENT
CATEGORIES:Event Category,Community,Event Category,Lehman Community,Event Category,Panel Discussions,Event Category,Special Event,Event Type,Panel,Audience,Faculty,Audience,Graduate Students,Audience,Staff,Audience,Students,Audience,Transfer Students,Audience,Visitors,Featured,Yes
DESCRIPTION:Led by Van Cortlandt Park Alliance, Design Trust for Public Space, and Immanuel Oni of Liminal sp, Reimagining has selected three design teams through its Bronx community-engagement-informed&amp;nbsp;Design Ideas Competition, aiming to generate new visions for a memorial honoring the site. Reimagining is honored to announce the Design Ideas Lab cohort:&amp;nbsp;Ground3d,&amp;nbsp;JIMA studio&amp;nbsp;and&amp;nbsp;Rodney Leon Architect. Join us for a talk and reception at Lehman College to celebrate and meet the design teams, learn more about the hidden histories of the Enslaved African Burial Ground in Van Cortlandt Park, and explore how the design ideas lab will lay down a blueprint vision for a future permanent memorial&amp;mdash;one that connects Bronx residents and visitors to the site&amp;rsquo;s history, acknowledges its painful legacy, and creates space for gathering, education, and healing. This panel discussion is part of Van Cortlandt Park Alliance&amp;rsquo;s&amp;nbsp;REIMAGINING&amp;nbsp;initiative. In partnership with the Design Trust for Public Space and Immanuel Oni, Liminal Sp, VCPA invites the community to reimagine the park&amp;rsquo;s Enslaved African Burial Ground site as a memorial space that fosters long-term healing and restoration. This project is supported by a generous grant from the Mellon Foundation.114919 panel, discussion, enslaved, ideas, lab, Van Cortlant Park, CHASE, Campus Honors and Scholar Engagement, Mellon Foundation, Lehman College, memorial, Rodney Leon, JIMA studio, GROUND3D
DTSTAMP:20260423T081259
DTSTART:20260421T180000
DTEND:20260421T200000
LOCATION:Carman Hall - CA
SUMMARY;LANGUAGE=en-us:Reimagining the Enslaved African Burial Ground at Van Cortlandt Park
UID:0f123d4191934c8c859bde61d37f9442@www.lehman.edu
END:VEVENT
END:VCALENDAR
