BEGIN:VCALENDAR
VERSION:2.0
X-WR-CALNAME:EventsCalendar
BEGIN:VEVENT
CATEGORIES:Event Category,Leadership,Event Category,Special Event,Event Category,Students,Event Type,Information Session,Event Type,Reception,Audience,Students,Featured,Yes
DESCRIPTION:Join the Urban Male Leadership Program and CREAR Futuros for the Student Leaders Summit: Lead, Connect, Empower on Thursday, April 16, 2026, from 3:00 PM-5:00 PM in the Faculty Dining Room. This event brings together student leaders from across campus to network, share ideas, and connect with opportunities that can help shape your future. Whether you are involved in a club, interested in leadership, or looking to build your network, this summit is a great chance to meet other students and grow as a leader. You may scan the following QR code to RSVP: 114972 CREAR Futuros, leadership, summit, network, connect, club, students
DTSTAMP:20260423T081300
DTSTART:20260416T150000
DTEND:20260416T170000
LOCATION:Music Building
SUMMARY;LANGUAGE=en-us:UMLP &amp;amp; CREAR Futuros: Student Leaders Summit
UID:2f4fa737d51dad3dd42a15b9b794d062@www.lehman.edu
END:VEVENT
END:VCALENDAR
