BEGIN:VCALENDAR
VERSION:2.0
X-WR-CALNAME:EventsCalendar
BEGIN:VEVENT
CATEGORIES:Event Category,CUNY,Event Category,Community,Event Category,Information Session,Event Category,Panel Discussions,Event Category,Symposia,Event Category,Webinar,Event Type,Information Session,Event Type,Lectures,Event Type,Panel,Event Type,Webinar,Audience,Alumni,Audience,Faculty,Audience,Friend of Lehman,Audience,Graduate Students,Audience,Staff,Audience,Students,Audience,Visitors,Featured,Yes
DESCRIPTION:Join us for our final webinar in the Nutrition and the Life Course series, toexplore the arts and aging through the lens of film studies and music, with afocus on intergenerational practice and programming. Learn how the arts cansupport cognitive, emotional, and holistic well-being as we age.115427 &#039;Symposium&#039;; &#039;Lecture&#039;; &#039;Panel Discussion&#039;
DTSTAMP:20260423T080059
DTSTART:20260513T120000
DTEND:20260513T130000
LOCATION:Online
SUMMARY;LANGUAGE=en-us:2nd Annual Symposium on Healthy Aging: Nutrition and the Life Course - Part 3
UID:d53b08369fade81dc8c796922b2ece91@www.lehman.edu
END:VEVENT
END:VCALENDAR
