BEGIN:VCALENDAR
VERSION:2.0
X-WR-CALNAME:EventsCalendar
BEGIN:VEVENT
CATEGORIES:Event Category,Community,Event Category,Student Services,Event Type,Community,Schools,School of Continuing &amp; Professional Studies,Audience,Alumni,Audience,Faculty,Audience,Friend of Lehman,Audience,Staff,Audience,Students,Audience,Visitors
DESCRIPTION:Protecting your business starts with understanding your risk. Small business owners are invited to join us every Saturday in June at CUNY on the Concourse for free cybersecurity risk assessments, conducted by cybersecurity interns as part of a hands-on learning program. Each assessment focuses on identifying potential vulnerabilities and offering practical, easy-to-understand recommendations to help strengthen your business&amp;rsquo;s cybersecurity. Submit the interest form to participate.115499 Secure, Cyber Security, BBTI, Small Business
DTSTAMP:20260423T094225
DTSTART:20260606T090000
DTEND:20260606T170000
LOCATION:CUNY on The Concourse
SUMMARY;LANGUAGE=en-us:Cyber Security Risk Assessment For Small Businesses 
UID:07e134ffbdd7649bab7fa70bfd7efd3b@www.lehman.edu
END:VEVENT
END:VCALENDAR
