BEGIN:VCALENDAR
VERSION:2.0
X-WR-CALNAME:EventsCalendar
BEGIN:VEVENT
CATEGORIES:Event Category,Admissions,Event Category,Advisement,Event Category,Community,Event Category,General Public,Event Category,Open House,Event Type,Information Session,Schools,School of Health Sciences, Human Services &amp; Nursing,Audience,Friend of Lehman,Audience,High School Students,Audience,Parents,Audience,Prospective Students,Audience,Students,Audience,Transfer Students,Audience,Visitors
DESCRIPTION:Receive information about why Social Work is a great profession to enhance the lives of others while earning a livable income. Explore the benefits of getting your BA degree with a major in social work at Lehman College and the pathways to advancing one&#039;s education. This virtual session will provide an overview of the BASW program, including academic expectations, admissions requirements, and career pathways in social work.&amp;nbsp;115614 social work, transfer student, helping profession, human services, HS2N,
DTSTAMP:20260423T071011
DTSTART:20260514T180000
DTEND:20260514T191500
LOCATION:Online
SUMMARY;LANGUAGE=en-us:May 14, 2026 BA-Social Work Information Session 
UID:4d2026159e1883d4d5d0eded8277a04e@www.lehman.edu
END:VEVENT
END:VCALENDAR
