BEGIN:VCALENDAR
VERSION:2.0
X-WR-CALNAME:EventsCalendar
BEGIN:VEVENT
CATEGORIES:Event Category,Faculty,Event Category,Information Session,Event Category,Lectures,Event Category,Library,Event Category,Live Events,Event Category,Panel Discussions,Event Category,Staff,Event Category,Students,Event Type,Information Session,Event Type,Lectures,Event Type,Panel,Schools,School of Arts &amp; Humanities,Audience,Faculty,Audience,Staff,Audience,Students,Featured,Yes
DESCRIPTION:This book defends constructivism as a leading approach to formulating the moral basis of political authority. &amp;nbsp;It addresses a central tension in constructivist theory: how principles can be both dependent on human deliberation and normatively objective. Moving beyond the familiar Rawlsian model - Political Authority develops a constructivist framework for normative political analysis that is accommodating of pluralism, sensitive to context, attuned to moral reasoning, and continuous with a long history of political thought about the nature of moral truth and legitimacy in politics. Engaging with traditional themes of authority, power, and justice - as well as contemporary debates on political realism, public justification, and performance legitimacy - this book is of interest to scholars and graduate students in political philosophy, political theory, normative ethics, democratic theory, and human rights studies. Michael Buckley is Associate Professor in the Philosophy Department and Director for Center for Human Rights and Peace Studies at Lehman College.115627 Michael Buckley, Political Authority: The Paradox and Promise of Constructivism in Politics, Philosophy, School of Arts and Humanities, Human Rights and Peace Studies
DTSTAMP:20260423T094304
DTSTART:20260506T120000
DTEND:20260506T130000
LOCATION:Library- LI
SUMMARY;LANGUAGE=en-us:Political Authority: The Paradox and Promise of Constructivism in Politics
UID:079401e459bef798c93395272c083977@www.lehman.edu
END:VEVENT
END:VCALENDAR
