BEGIN:VCALENDAR
VERSION:2.0
X-WR-CALNAME:EventsCalendar
BEGIN:VEVENT
CATEGORIES:Event Category,Music,Event Category,Performing Arts &amp; Film,Event Category,Special Event,Event Type,Community,Event Type,Film,Event Type,Performing Arts,Audience,Alumni,Audience,Faculty,Audience,Friend of Lehman,Audience,Staff,Audience,Students,Audience,Visitors,Featured,Yes
DESCRIPTION:Lehman College Presents Bronx Beat Week, a Three-Day Tribute to Hip HopFeatures performances, screenings, and the CUNY Beat Battle&amp;mdash;judged by Grandmaster Melle Mel and Denzil Porter THE BRONX, N.Y.&amp;mdash; On Monday, April 27, Lehman College kicks off Bronx Beat Week, a three-day, public celebration of the borough&amp;rsquo;s contributions to hip hop and American culture, with a roster of events including music, dance, beat-making, film, and conversation. Bronx Beat Week is an expansion of the annual CUNY Beat Battle series, now in its fourth year, and is set for Tuesday, April 28, at 5 p.m. in the Multimedia Center. Judges include hip hop legend Melle Mel (&amp;ldquo;The Message,&amp;rdquo; &amp;ldquo;White Lines&amp;rdquo;). Monday, April 27:  12 p.m.&amp;mdash; Lehman Dance Ensemble performs outside Music Building 4 p.m. &amp;mdash; Live music, dance, and dance workshop in Music Building East Dining Room  Tuesday, April 28, 5 p.m. in the Multimedia Center, Carman Hall C39: The Fourth Annual CUNY Beat Battle, with judges Grandmaster Melle Mel and Denzil Porter. Intercollegiate teams from across CUNY will have 45 minutes to create a new beat using samples provided by the judges. Wednesday, April 29, 5 p.m.in the Recital Hall, Music Building Room 306: Screenings of Mott Haven, directed by Kelleyann Royce-Giron and Graffiti Nation, directed by Handal Abdelrahim, followed by a panel discussion with the filmmakers and J.C. Hall, pioneer of Hip Hop Expressive Arts Therapy. Location: R All events are free and open to the public. Photo ID is required for campus entry.115634 hip hop, dance, live music, screenings, performance, Lehman Dance Ensemble, dance workshop, CUNY Beat Battle, Grandmaster Melle Mel, Denzil Porter, Mott Haven, Kellevann Royce-Giron, Graffiti Nation, Handal Abdelrahim, J.C. Hall
DTSTAMP:20260423T094304
DTSTART:20260427T120000
DTEND:20260427T140000
LOCATION:Music Building
SUMMARY;LANGUAGE=en-us:Bronx Beat Week, a Three-Day Tribute to Hip Hop
UID:8775f55ee1e0b779e687096e7e362042@www.lehman.edu
END:VEVENT
END:VCALENDAR
