BEGIN:VCALENDAR
VERSION:2.0
X-WR-CALNAME:EventsCalendar
BEGIN:VEVENT
CATEGORIES:Event Category,Admissions,Event Category,CUNY,Event Category,Information Session,Event Type,Information Session,Schools,School of Education,Audience,Alumni,Audience,Faculty,Audience,Graduate Students,Audience,Parents,Audience,Prospective Students,Audience,Staff,Audience,Students,Audience,Visitors
DESCRIPTION:Explore Lehman College&amp;rsquo;s&amp;nbsp;M.S.Ed. in School Counseling, a 60-credit, part-time, three-year online program leading to New York State School Counselor Certification. Accredited by both CACREP and CAEP, graduates are prepared for leadership roles in diverse school settings. Join a program dedicated to excellence, inclusion, and the next generation of school counseling professionals.&amp;nbsp;115705 Information Session, Graduate School, Graduate Admissions, Counselor Education, Guidance counselor, clinical mental health, mental health, School counseling
DTSTAMP:20260425T065325
DTSTART:20260303T180000
DTEND:20260303T200000
LOCATION:Online
SUMMARY;LANGUAGE=en-us:Counselor Ed. School Counseling M.S.Ed. Information Session 
UID:9a0e6b3e69332bb7893a58b3bbf533e4@www.lehman.edu
END:VEVENT
END:VCALENDAR
