BEGIN:VCALENDAR
VERSION:2.0
X-WR-CALNAME:EventsCalendar
BEGIN:VEVENT
CATEGORIES:Event Category,Academics,Event Category,Career Development,Event Category,Other,Event Type,Community,Event Type,Lectures,Event Type,Webinar,Schools,School of Health Sciences, Human Services &amp; Nursing,Audience,Alumni,Audience,Faculty,Audience,Friend of Lehman,Audience,Graduate Students,Audience,Parents,Audience,Prospective Students,Audience,Staff,Audience,Students,Audience,Transfer Students,Audience,Visitors
DESCRIPTION:FREE FOR LEHMAN STUDENTS Phuong Lien Palafox, MS, CCC-SLP, is a Vietnamese-Chinese multilingual speech-language therapist, author and advocate.&amp;nbsp; Currently, her time is spent serving clients and their families, SLPs and educators across the United States. Her work has been featured in various publications, including the American Journal of Speech-Language Pathology and content for the American Speech-Language-Hearing Association. With a foundation of evidence-based and human-centered practices, she is continually invested in Culturally Responsiveness and Sustaining, Advocacy, Narrative-Based Interventions and the Mental Health of Educators and Service Providers.&amp;nbsp; She is the author of The Heartbeat of Speech-Language Pathology &amp;nbsp; Registration link: Culturally Responsive Assessments &amp;amp; Agency for the Monolingual &amp;amp; Bilingual SLP with Phuong Lien Palafox, MS, CCC-SLP Tickets in Bronx, NY, United States (ticketleap.com) Payment link: RFCUNY Event Payment **Must e-mail proof of payment to receive Zoom link****Students must submit proof of current Student ID**&amp;nbsp; Additional information is on the attached flier. Please share with your colleagues, faculty, and students. We anticipate the workshop to be a wonderful event! I hope you can join us.71624 Continuing Education, ASHA, Speech-Language-Hearing Sciences, Culturally Responsive
DTSTAMP:20260423T081157
DTSTART:20240301T090000
DTEND:20240301T121500
LOCATION:Online
SUMMARY;LANGUAGE=en-us:Culturally Responsive Assessments &amp;amp; Agency For The Monolingual and Bilingual Speech Language Pathologist
UID:6a528d8dd121d85df476c570d03d21dc@www.lehman.edu
END:VEVENT
END:VCALENDAR
