BEGIN:VCALENDAR
VERSION:2.0
X-WR-CALNAME:EventsCalendar
BEGIN:VEVENT
CATEGORIES:Event Category,Training,Event Type,Lectures,Audience,Faculty,Audience,Staff,Audience,Students,Featured,Yes
DESCRIPTION:Pivot tables quickly summarize complex data to create meaningful, interactive summaries. They are easy to create and believe it or not fun to work with! Why? Because knowing how to effectively use this powerful Excel tool will transform how you use and view data. In this workshop, participants with a basic knowledge of Excel will learn what is a pivot table, the advantages of using pivot tables, examples of pivot tables, manipulating and modifying source data, creating pivot charts, and collaborating with others using Excel. The workshop will include hands-on exercises. Date and Time: Thursday, February 29, 2024, 10:00 a.m. &amp;ndash; 11:00 a.m., Modality: In-person72509 Office 365 ITR Workshops Lehman College IT Training Information Technology
DTSTAMP:20260423T075859
DTSTART:20240229T100000
DTEND:20240229T110000
LOCATION:Carman Hall - CA
SUMMARY;LANGUAGE=en-us:ITR Workshops -  Microsoft Office 365 Excel Pivot Tables &amp;amp; Charts
UID:e4cecf0a09af107352b2321ec9f354bb@www.lehman.edu
END:VEVENT
END:VCALENDAR
