BEGIN:VCALENDAR
VERSION:2.0
X-WR-CALNAME:EventsCalendar
BEGIN:VEVENT
CATEGORIES:Event Category,Admissions,Event Category,CUNY,Event Category,Information Session,Event Type,Information Session,Schools,School of Education,Audience,Faculty,Audience,Graduate Students,Audience,Prospective Students,Audience,Staff,Audience,Students,Audience,Visitors
DESCRIPTION:Enhance your teaching expertise with Lehman College&amp;rsquo;s advanced Literacy Education program. Join us on November 6th&amp;nbsp;&amp;nbsp;for an information session where you&amp;rsquo;ll learn about the Literacy M.S.Ed. and Advanced Certificate programs, engage with faculty, get guidance on the admissions process, and discover how our competitive tuition makes career advancement both achievable and affordable.&amp;nbsp; Join the literacy education program to build connections with a community of dedicated educators, expand your professional network, and explore a rigorous curriculum focused on evidence-based teaching strategies.79712 Literacy, Literacy Specialist, Literacy Education, Literacy Education, Birth-6th, 5-12th
DTSTAMP:20260423T075921
DTSTART:20241106T190000
DTEND:20241106T200000
LOCATION:Online
SUMMARY;LANGUAGE=en-us:Literacy Studies M.S.Ed., Adv.Cert. Information Session 
UID:0621b1c9e76d333fa1f67b7022dd433c@www.lehman.edu
END:VEVENT
END:VCALENDAR
