BEGIN:VCALENDAR
VERSION:2.0
X-WR-CALNAME:EventsCalendar
BEGIN:VEVENT
CATEGORIES:Event Category,Arts &amp; Culture,Event Category,CUNY,Event Category,Concerts,Event Category,Live Events,Event Category,Music,Event Category,Performing Arts &amp; Film,Event Category,Special Event,Event Type,Concert,Event Type,Performing Arts,Audience,Alumni,Audience,Faculty,Audience,Staff,Audience,Students,Audience,Visitors
DESCRIPTION:Dru Hill is an American R&amp;amp;B group, whose repertoire included soul, hip hop soul and gospel music. The group was founded in Baltimore in 1992 by Tamir &quot;Nokio the N-Tity&quot; Ruffin.Dru Hill recorded seven top 40 hits, and is best known for the R&amp;amp;B number-one hits &quot;In My Bed&quot;, &quot;Never Make a Promise,&quot; and &quot;How Deep Is Your Love&quot;. Its original members were lead singer Mark &quot;Sisq&amp;oacute;&quot; Andrews, Tamir &quot;Nokio&quot; Ruffin, Larry &quot;Jazz&quot; Anthony and James &quot;Woody&quot; Green. Now, the group is led by Scola, Nokio, Sisq&amp;oacute;, Smoke, Black, and Jazz.Patrons who purchase VIP tickets (first 9 rows of Orchestra Center) are invited to attend a special reception at 6:30pm on the day of the show. Drinks and hors d&#039;oeuvres catered by Havana Cafe.       Students, Faculty, and Staff are entitled to $5 off their tickets when buying in person, at the Box Office, with their Lehman ID.&amp;nbsp;      88146 dru hill, 90s music, r&amp;amp;b, live music, concert, lehman center
DTSTAMP:20260425T135437
DTSTART:20241130T200000
DTEND:20241130T230000
LOCATION:Concert Hall
SUMMARY;LANGUAGE=en-us:Dru Hill at the Concert Hall
UID:8559409939b6320bd3701fb9cc82083a@www.lehman.edu
END:VEVENT
END:VCALENDAR
