BEGIN:VCALENDAR
VERSION:2.0
X-WR-CALNAME:EventsCalendar
BEGIN:VEVENT
CATEGORIES:Event Category,Admissions,Event Category,CUNY,Event Category,Information Session,Event Type,Information Session,Schools,School of Natural &amp; Social Sciences,Audience,Alumni,Audience,Faculty,Audience,Graduate Students,Audience,Parents,Audience,Prospective Students,Audience,Staff,Audience,Students,Audience,Transfer Students,Audience,Visitors,Featured,Yes
DESCRIPTION:The Office of Graduate Admissions hosts regular, program-specific information sessions for many of our graduate programs. Our Graduate Information Sessions are designed to highlight the benefits and value of a Lehman College graduate degree and provide prospective applicants with an overview of our graduate programs. It is also an opportunity to meet with faculty and learn more about the application process, tuition costs, and transfer credits.&amp;nbsp;&amp;nbsp; Our Programs and Degrees page offers a listing of graduate programs and gives you access to the full course description and website for your intended program.&amp;nbsp;91269 Information Session, Graduate School, Graduate Admissions, graduate application, biology, biological sciences, biological research
DTSTAMP:20260423T080049
DTSTART:20250210T180000
DTEND:20250210T190000
LOCATION:Online
SUMMARY;LANGUAGE=en-us:Biology M.A./M.S. Information session
UID:6906f8a4a9192adabc5b500fcdca68ba@www.lehman.edu
END:VEVENT
END:VCALENDAR
