BEGIN:VCALENDAR
VERSION:2.0
X-WR-CALNAME:EventsCalendar
BEGIN:VEVENT
CATEGORIES:Event Category,Admissions,Event Category,CUNY,Event Category,Information Session,Event Type,Information Session,Audience,Alumni,Audience,Graduate Students,Audience,Parents,Audience,Prospective Students,Audience,Staff,Audience,Students,Audience,Transfer Students,Audience,Visitors
DESCRIPTION:Our Graduate Information Sessions are designed to highlight the benefits and value of a Lehman College graduate degree and provide prospective applicants with an overview of our graduate programs.&amp;nbsp;91480 Graduate information session, graduate school, admission, graduate admission, master&#039;s degree. masters, doctorate, M.S., M.S.Ed., MSED
DTSTAMP:20260423T070852
DTSTART:20250306T120000
DTEND:20250306T130000
LOCATION:Online
SUMMARY;LANGUAGE=en-us:Graduate Application and Enrollment Roundtable 
UID:5856c0d41d663b1d69805b822136cb90@www.lehman.edu
END:VEVENT
END:VCALENDAR
