BEGIN:VCALENDAR
VERSION:2.0
X-WR-CALNAME:EventsCalendar
BEGIN:VEVENT
CATEGORIES:Event Category,Arts &amp; Culture,Event Category,CUNY,Event Category,Visual Arts,Event Category,Workshops,Event Type,Exhibition,Event Type,Information Session,Audience,Alumni,Audience,Faculty,Audience,Friend of Lehman,Audience,Graduate Students,Audience,Parents,Audience,Prospective Students,Audience,Staff,Audience,Students,Audience,Transfer Students,Audience,Visitors,Featured,Yes
DESCRIPTION:Experience an inquiry-based inclusive family tour of the Public Art Collection of Lehman College.&amp;nbsp;Create your own collage based on the work on Olmec, The King.91577 Art, Collage, Art Gallery, Olmec, Family Program
DTSTAMP:20260425T194023
DTSTART:20250608T103000
DTEND:20250608T123000
LOCATION:Fine Arts - FA
SUMMARY;LANGUAGE=en-us:Inclusive Family Program: Create a Collage
UID:c11d3daba3434315c234958a0c2a2255@www.lehman.edu
END:VEVENT
END:VCALENDAR
