BEGIN:VCALENDAR
VERSION:2.0
X-WR-CALNAME:EventsCalendar
BEGIN:VEVENT
CATEGORIES:Event Category,Arts &amp; Culture,Event Category,Community,Event Category,Concerts,Event Category,Music,Event Type,Concert,Schools,School of Arts &amp; Humanities,Audience,Alumni,Audience,Faculty,Audience,Friend of Lehman,Audience,Graduate Students,Audience,Prospective Students,Audience,Staff,Audience,Students,Audience,Transfer Students,Audience,Visitors
DESCRIPTION:&amp;nbsp;&amp;nbsp;Goldberg-Variationen, BWV 988 &amp;nbsp; &amp;nbsp; &amp;nbsp;JS Bach (1685-1750)&amp;nbsp;&amp;nbsp;Aria&amp;nbsp;Variation 1 for 1 keyboard&amp;nbsp;Variation 2 for 1 keyboard&amp;nbsp;Variation 3 for 1 keyboard- Canone all&amp;rsquo;Unisuono&amp;nbsp;Variation 4 for 1 keyboard&amp;nbsp;Variation 5 for 2 keyboards&amp;nbsp;Variation 6 for one keyboard - Canone alla Seconda&amp;nbsp;Variation 7 for 2 keyboards - al tempo di Giga&amp;nbsp;Variation 8 for 2 keyboards&amp;nbsp;Variation 9 for 1 keyboard - Canone alla Terza&amp;nbsp;Variation 10 for 1 keyboard - Fughetta&amp;nbsp;Variation 11 for 2 keyboards &amp;nbsp;Variation 12 for 1 keyboard &amp;mdash; Canone alla Quarta&amp;nbsp;Variation 13 for 2 keyboards&amp;nbsp;Variation 14 for 2 keyboards&amp;nbsp;Variation 15 for 1 keyboard - Canone alla Quinta &amp;mdash; Andante&amp;nbsp;Variation 16 for 1 keyboard - Overture&amp;nbsp;Variation 17 for 2 keyboards&amp;nbsp;Variation 18 for 1 keyboard - Canone alla Sesta&amp;nbsp;Variation 19 for 1 keyboard&amp;nbsp;Variation 20 for 2 keyboards&amp;nbsp;Variation 21 for 1 keyboard - Canone alla Settima&amp;nbsp;Variation 22 for 1 keyboard &amp;mdash; Alla breve&amp;nbsp;Variation 23 for 2 keyboards &amp;nbsp;Variation 24 for 1 keyboard - Canone all&amp;rsquo;Ottava&amp;nbsp;Variation 25 for 2 keyboards - Adagio&amp;nbsp;Variation 26 for 2 keyboards&amp;nbsp;Variation 27 for 2 keyboards - Canone alla Nona&amp;nbsp;Variation 28 for 2 keyboards &amp;nbsp;Variation 29 for 2 keyboards&amp;nbsp;Variation 30 for 1 keyboard - Quodlibet&amp;nbsp;Aria&amp;nbsp;&amp;nbsp;For more on the Goldberg Variations. &amp;nbsp;&amp;nbsp;92324 &amp;quot;music&amp;quot;, &amp;quot;recital&amp;quot;, &amp;quot;arts and culture&amp;quot;, &amp;quot;classical music&amp;quot;, &amp;quot;Bach&amp;quot;, &amp;quot;molly morkoski&amp;quot;, &amp;quot;piano&amp;quot;, &amp;quot;Goldberg Variations&amp;quot;
DTSTAMP:20260423T081156
DTSTART:20250211T130000
DTEND:20250211T150000
LOCATION:Music Building
SUMMARY;LANGUAGE=en-us:Molly Morkoski Faculty Recital
UID:7ef163a0be7da0e794f540abd5cca502@www.lehman.edu
END:VEVENT
END:VCALENDAR
