BEGIN:VCALENDAR
VERSION:2.0
X-WR-CALNAME:EventsCalendar
BEGIN:VEVENT
CATEGORIES:Event Category,Lectures,Event Category,Library,Event Type,Lectures,Audience,Alumni,Audience,Faculty,Audience,Graduate Students,Audience,Staff,Audience,Students,Featured,Yes
DESCRIPTION:Join us for a special conversation with two Lehman College alumni writers, both graduates of the English Department Internationally celebrated novelist and memoirist Andr&amp;eacute; Aciman, BA &#039;73, and prize-winning author Maria-Cristina&amp;nbsp;Necula, MA &#039;14, appear together to discuss themes of exile, growing pains, identity, oppression, finding refuge in literature and opera, immigration to New York, in their recently published memoirs:&amp;nbsp;Roman Year&amp;nbsp;(Aciman) and&amp;nbsp;The Voice Beneath the Quince Tree&amp;nbsp;(Necula). Discussion will be facilitated by Paula Loscocco, professor in the English Department93631 Reading Series, Library ,Maria-Cristina Necula, Andr&amp;eacute; Aciman
DTSTAMP:20260423T081131
DTSTART:20250313T180000
DTEND:20250313T193000
LOCATION:Library- LI
SUMMARY;LANGUAGE=en-us:Andr&amp;eacute; Aciman and Maria-Cristina Necula: In Search of the Lost Home
UID:a833373ee301d69ffe45c7c5d20f27b3@www.lehman.edu
END:VEVENT
END:VCALENDAR
