BEGIN:VCALENDAR
VERSION:2.0
X-WR-CALNAME:EventsCalendar
BEGIN:VEVENT
CATEGORIES:Event Category,Lectures,Event Category,Workshops,Event Type,Lectures,Schools,School of Natural &amp; Social Sciences,Audience,Faculty,Audience,Staff,Audience,Students,Featured,Yes
DESCRIPTION:Come hear the inspiring Gina Cano, Senior Director at Dell Technologies, share her insights and vision for the future of tech! Register with the following link.94362 Computer Science, tech, technology
DTSTAMP:20260423T081039
DTSTART:20250317T110000
DTEND:20250317T150000
LOCATION:Music Building
SUMMARY;LANGUAGE=en-us:Innovating Tomorrow: Dell Technologies Leadership Insights
UID:88d772c54ef7af8535fd53223b241992@www.lehman.edu
END:VEVENT
END:VCALENDAR
