BEGIN:VCALENDAR
VERSION:2.0
X-WR-CALNAME:EventsCalendar
BEGIN:VEVENT
CATEGORIES:Event Category,Music,Event Category,Performing Arts &amp; Film,Event Category,Theatre &amp; Dance,Event Type,Concert,Audience,Alumni,Audience,Faculty,Audience,Staff,Audience,Students,Audience,Visitors
DESCRIPTION: The 42nd Annual McDonald&amp;rsquo;s Gospelfest comes to Lehman on Mother&amp;rsquo;s Day Weekend Friday, May 9th, 2025. at 7:30 PM. Emmy Winning Producer and Director, A. Curtis Farrow has done it again, gathering the best talent in gospel music for an uplifting and spiritual production. This year&#039;s event will feature performances by one of the bestselling gospel artists of all-time, Grammy winner Yolanda Adams, the&amp;rdquo; First Lady of Gospel&amp;rdquo; the legendary Shirley Caesar and many more! Students, Faculty, and Staff are entitled to $5 off all tickets with valid Lehman ID.  94967 mcdonalds, gospelfest, gospel concert, bronx, lehman center
DTSTAMP:20260423T081030
DTSTART:20250509T200000
DTEND:20250509T230000
LOCATION:Concert Hall
SUMMARY;LANGUAGE=en-us:McDonald&#039;s Gospelfest 2025!
UID:f1551b3e0800cd9599c42937d3ef6f1d@www.lehman.edu
END:VEVENT
END:VCALENDAR
