BEGIN:VCALENDAR
VERSION:2.0
X-WR-CALNAME:EventsCalendar
BEGIN:VEVENT
CATEGORIES:Event Category,Admissions,Event Category,Information Session,Event Type,Information Session,Audience,Alumni,Audience,Graduate Students,Audience,Prospective Students,Audience,Staff,Audience,Students,Audience,Transfer Students
DESCRIPTION:The Office of Graduate Admissions hosts regular, program-specific information sessions for many of our graduate programs. Our Graduate Information Sessions are designed to highlight the benefits and value of a Lehman College graduate degree and provide prospective applicants with an overview of our graduate programs. It is also an opportunity to meet with faculty and learn more about the application process, tuition costs, and transfer credits. Our&amp;nbsp;Programs and Degrees&amp;nbsp;page offers a listing of graduate programs and gives you access to the full course description and website for your intended program.95387 Information Session, Graduate School, Graduate Admissions
DTSTAMP:20260423T085342
DTSTART:20250403T180000
DTEND:20250403T190000
LOCATION:Online
SUMMARY;LANGUAGE=en-us:Mindfulness and Contemplative Studies Adv. Cert. Information Session
UID:e99a7a112d9e917755eebd6d2c2cac5b@www.lehman.edu
END:VEVENT
END:VCALENDAR
